BEGIN:VCALENDAR
VERSION:2.0
PRODID:-//jEvents 2.0 for Joomla//EN
CALSCALE:GREGORIAN
METHOD:PUBLISH
BEGIN:VTIMEZONE
TZID:Europe/Berlin
BEGIN:STANDARD
DTSTART:20251026T020000
RDATE:20260329T030000
TZOFFSETFROM:+0200
TZOFFSETTO:+0100
TZNAME:Europe/Berlin CET
END:STANDARD
BEGIN:STANDARD
DTSTART:20261025T020000
RDATE:20270328T030000
TZOFFSETFROM:+0200
TZOFFSETTO:+0100
TZNAME:Europe/Berlin CET
END:STANDARD
BEGIN:DAYLIGHT
DTSTART:20250419T080000
RDATE:20251026T020000
TZOFFSETFROM:+0100
TZOFFSETTO:+0200
TZNAME:Europe/Berlin CEST
END:DAYLIGHT
BEGIN:DAYLIGHT
DTSTART:20260329T030000
RDATE:20261025T020000
TZOFFSETFROM:+0100
TZOFFSETTO:+0200
TZNAME:Europe/Berlin CEST
END:DAYLIGHT
END:VTIMEZONE
BEGIN:VEVENT
UID:20260317T184122-2578@5120.start.schulportal.hessen.de
CATEGORIES:Sonstiges
CREATED:20260319T030003
SUMMARY:Sprechstunde zur Berufs- und Studienorientierung
LOCATION:Raum 72, Erweiterungsbau (oder Alternativraum wg. Umbau)
DESCRIPTION;ENCODING=QUOTED-PRINTABLE:Frau Feder, Berufsberaterin der Agentur für Arbeit Wiesbaden, bietet Sprech
 zeiten von jeweils 30 Minuten an. Beratungstermine können vorab über Herrn 
 Steffen (Diese E-Mail-Adresse ist vor Spambots geschützt! Zur Anzeige muss 
 JavaScript eingeschaltet sein!
				document.getElementById('cloake7f1593537
 c7b48c2095890c7a7924cd').innerHTML = '';
				var prefix = '&#109;a' + 'i&#1
 08;' + '&#116;o';
				var path = 'hr' + 'ef' + '=';
				var addye7f1593537c
 7b48c2095890c7a7924cd = 'st&#101;ff&#101;n' + '&#64;';
				addye7f1593537c7
 b48c2095890c7a7924cd = addye7f1593537c7b48c2095890c7a7924cd + 'rh&#101;&#10
 5;ng&#97;&#117;sch&#117;l&#101;' + '&#46;' + 'd&#101;';
				var addy_texte7
 f1593537c7b48c2095890c7a7924cd = 'st&#101;ff&#101;n' + '&#64;' + 'rh&#101;&
 #105;ng&#97;&#117;sch&#117;l&#101;' + '&#46;' + 'd&#101;';document.getEleme
 ntById('cloake7f1593537c7b48c2095890c7a7924cd').innerHTML += ''+addy_texte7
 f1593537c7b48c2095890c7a7924cd+'';
		) angefragt und vereinbart werden. Die
  Sprechstunde findet in Raum 72 im Erweiterungsbau statt, Raumänderungen du
 rch den Umbau werden rechtzeitig bekanntgegeben.
CONTACT:"Rheingauschule, Geisenheim"
DTSTAMP:20260422T143616Z
DTSTART;TZID=Europe/Berlin:20260420T080000
DTEND;TZID=Europe/Berlin:20260420T120000
SEQUENCE:0
TRANSP:OPAQUE
END:VEVENT
END:VCALENDAR