BEGIN:VCALENDAR
VERSION:2.0
PRODID:-//jEvents 2.0 for Joomla//EN
CALSCALE:GREGORIAN
METHOD:PUBLISH
BEGIN:VTIMEZONE
TZID:Europe/Berlin
BEGIN:STANDARD
DTSTART:20250112T110000
RDATE:20250330T030000
TZOFFSETFROM:+0200
TZOFFSETTO:+0100
TZNAME:Europe/Berlin CET
END:STANDARD
BEGIN:STANDARD
DTSTART:20251026T020000
RDATE:20260329T030000
TZOFFSETFROM:+0200
TZOFFSETTO:+0100
TZNAME:Europe/Berlin CET
END:STANDARD
BEGIN:STANDARD
DTSTART:20261025T020000
RDATE:20270328T030000
TZOFFSETFROM:+0200
TZOFFSETTO:+0100
TZNAME:Europe/Berlin CET
END:STANDARD
BEGIN:DAYLIGHT
DTSTART:20250330T030000
RDATE:20251026T020000
TZOFFSETFROM:+0100
TZOFFSETTO:+0200
TZNAME:Europe/Berlin CEST
END:DAYLIGHT
BEGIN:DAYLIGHT
DTSTART:20260329T030000
RDATE:20261025T020000
TZOFFSETFROM:+0100
TZOFFSETTO:+0200
TZNAME:Europe/Berlin CEST
END:DAYLIGHT
END:VTIMEZONE
BEGIN:VEVENT
UID:20251203T122957-2505@5120.start.schulportal.hessen.de
CATEGORIES:Unterricht
CREATED:20251204T030004
SUMMARY:Pädagogischer Halbtag Künstliche Intelligenz
LOCATION:Aula
DESCRIPTION;ENCODING=QUOTED-PRINTABLE:Eigenverantwortliches Arbeiten zu Hause für alle Lernenden ab der 5. Stunde
 \nAngebot Pädagogische Betreuung Klasse 5+6  bis 12:55h- Anmeldung über die
  Poststelle
CONTACT:"Rheingauschule, Geisenheim"
DTSTAMP:20260422T211718Z
DTSTART;TZID=Europe/Berlin:20260113T110000
DTEND;TZID=Europe/Berlin:20260113T160000
SEQUENCE:0
TRANSP:OPAQUE
END:VEVENT
END:VCALENDAR