BEGIN:VCALENDAR
VERSION:2.0
PRODID:-//jEvents 2.0 for Joomla//EN
CALSCALE:GREGORIAN
METHOD:PUBLISH
BEGIN:VTIMEZONE
TZID:Europe/Berlin
BEGIN:STANDARD
DTSTART:20241027T020000
RDATE:20250330T030000
TZOFFSETFROM:+0200
TZOFFSETTO:+0100
TZNAME:Europe/Berlin CET
END:STANDARD
BEGIN:STANDARD
DTSTART:20251026T020000
RDATE:20260329T030000
TZOFFSETFROM:+0200
TZOFFSETTO:+0100
TZNAME:Europe/Berlin CET
END:STANDARD
BEGIN:STANDARD
DTSTART:20261025T020000
RDATE:20270328T030000
TZOFFSETFROM:+0200
TZOFFSETTO:+0100
TZNAME:Europe/Berlin CET
END:STANDARD
BEGIN:DAYLIGHT
DTSTART:20240827T080000
RDATE:20241027T020000
TZOFFSETFROM:+0100
TZOFFSETTO:+0200
TZNAME:Europe/Berlin CEST
END:DAYLIGHT
BEGIN:DAYLIGHT
DTSTART:20250330T030000
RDATE:20251026T020000
TZOFFSETFROM:+0100
TZOFFSETTO:+0200
TZNAME:Europe/Berlin CEST
END:DAYLIGHT
BEGIN:DAYLIGHT
DTSTART:20260329T030000
RDATE:20261025T020000
TZOFFSETFROM:+0100
TZOFFSETTO:+0200
TZNAME:Europe/Berlin CEST
END:DAYLIGHT
END:VTIMEZONE
BEGIN:VEVENT
UID:20250822T155314-2428@5120.start.schulportal.hessen.de
CATEGORIES:Sonstiges
CREATED:20250826T030004
SUMMARY:Sprechstunde zur Berufs- und Studienberatung
LOCATION:Raum 72, Erweiterungsbau
DESCRIPTION;ENCODING=QUOTED-PRINTABLE:Frau Feder, Berufsberaterin der Agentur für Arbeit Wiesbaden, bietet Sprech
 zeiten von jeweils 30 Minuten an. Beratungstermine können vorab über Herrn 
 Steffen (<span id="cloak97739fce6b4476e8b60b3b74b221a0f1">Diese E-Mail-Adre
 sse ist vor Spambots geschützt! Zur Anzeige muss JavaScript eingeschaltet s
 ein!</span><script type='text/javascript'>
				document.getElementById('clo
 ak97739fce6b4476e8b60b3b74b221a0f1').innerHTML = '';
				var prefix = '&#10
 9;a' + 'i&#108;' + '&#116;o';
				var path = 'hr' + 'ef' + '=';
				var add
 y97739fce6b4476e8b60b3b74b221a0f1 = 'st&#101;ff&#101;n' + '&#64;';
				addy
 97739fce6b4476e8b60b3b74b221a0f1 = addy97739fce6b4476e8b60b3b74b221a0f1 + '
 rh&#101;&#105;ng&#97;&#117;sch&#117;l&#101;' + '&#46;' + 'd&#101;';
				var
  addy_text97739fce6b4476e8b60b3b74b221a0f1 = 'st&#101;ff&#101;n' + '&#64;' 
 + 'rh&#101;&#105;ng&#97;&#117;sch&#117;l&#101;' + '&#46;' + 'd&#101;';docum
 ent.getElementById('cloak97739fce6b4476e8b60b3b74b221a0f1').innerHTML += '<
 a ' + path + '\'' + prefix + ':' + addy97739fce6b4476e8b60b3b74b221a0f1 + '
 \'>'+addy_text97739fce6b4476e8b60b3b74b221a0f1+'<\/a>';
		</script>) angefr
 agt und vereinbart werden. Die Sprechstunde findet in Raum 72 im Erweiterun
 gsbau statt.
CONTACT:"Rheingauschule, Geisenheim"
DTSTAMP:20260424T111101Z
DTSTART;TZID=Europe/Berlin:20250828T080000
DTEND;TZID=Europe/Berlin:20250828T120000
SEQUENCE:0
TRANSP:OPAQUE
END:VEVENT
END:VCALENDAR