BEGIN:VCALENDAR
VERSION:2.0
PRODID:-//jEvents 2.0 for Joomla//EN
CALSCALE:GREGORIAN
METHOD:PUBLISH
BEGIN:VTIMEZONE
TZID:Europe/Berlin
BEGIN:STANDARD
DTSTART:20251026T020000
RDATE:20260329T030000
TZOFFSETFROM:+0200
TZOFFSETTO:+0100
TZNAME:Europe/Berlin CET
END:STANDARD
BEGIN:STANDARD
DTSTART:20261025T020000
RDATE:20270328T030000
TZOFFSETFROM:+0200
TZOFFSETTO:+0100
TZNAME:Europe/Berlin CET
END:STANDARD
BEGIN:DAYLIGHT
DTSTART:20250423T074500
RDATE:20251026T020000
TZOFFSETFROM:+0100
TZOFFSETTO:+0200
TZNAME:Europe/Berlin CEST
END:DAYLIGHT
BEGIN:DAYLIGHT
DTSTART:20260329T030000
RDATE:20261025T020000
TZOFFSETFROM:+0100
TZOFFSETTO:+0200
TZNAME:Europe/Berlin CEST
END:DAYLIGHT
END:VTIMEZONE
BEGIN:VEVENT
UID:20250708T112120-2371@5120.start.schulportal.hessen.de
CATEGORIES:Termin
CREATED:20250709T030004
SUMMARY:Versand der Mahnbriefe
DESCRIPTION;ENCODING=QUOTED-PRINTABLE:Versand der Mahnbriefe; Abgabe bis 09:30 Uhr
CONTACT:"Rheingauschule, Geisenheim"
DTSTAMP:20260422T212814Z
DTSTART;TZID=Europe/Berlin:20260424T074500
DTEND;TZID=Europe/Berlin:20260424T093059
SEQUENCE:0
TRANSP:OPAQUE
END:VEVENT
END:VCALENDAR